BEGIN:VCALENDAR
VERSION:2.0
PRODID:-//wp-events-plugin.com//7.2.3.1//EN
BEGIN:VEVENT
UID:15@musikschulehaar.de
DTSTART;TZID=Europe/Berlin:20260509T140000
DTEND;TZID=Europe/Berlin:20260509T170000
DTSTAMP:20260312T153519Z
URL:http://musikschulehaar.de/events/tag-der-offenen-tuer-2/
SUMMARY:Tag der offenen Tür
DESCRIPTION:Tag der offenen Tür in der Musikschule - zum Kennenlernen und 
 Ausprobieren und einfach mal Reinschauen.\n\nMit großem Instrumente-Flohm
 arkt \n\nIhr sucht noch nach dem passenden Instrument? Da haben wir siche
 r was für euch.\n\nWir freuen uns auf Euch!\n\n&nbsp\;
ATTACH;FMTTYPE=image/jpeg:http://musikschulehaar.de/wp-content/uploads/202
 6/03/TdoT2026_edit.jpg
END:VEVENT
BEGIN:VTIMEZONE
TZID:Europe/Berlin
X-LIC-LOCATION:Europe/Berlin
BEGIN:DAYLIGHT
DTSTART:20260329T030000
TZOFFSETFROM:+0100
TZOFFSETTO:+0200
TZNAME:CEST
END:DAYLIGHT
END:VTIMEZONE
END:VCALENDAR