BEGIN:VCALENDAR
VERSION:2.0
PRODID:-//wp-events-plugin.com//7.2.3.1//EN
BEGIN:VEVENT
UID:18@musikschulehaar.de
DTSTART;TZID=Europe/Berlin:20260716T183000
DTEND;TZID=Europe/Berlin:20260716T183000
DTSTAMP:20260317T110013Z
URL:http://musikschulehaar.de/events/lehrerkonzert-2/
SUMMARY:Lehrerkonzert
DESCRIPTION:Einmal die Lehrern unsere Musikschule im lauschigen Hinterhof d
 er Musikschule live erleben - das könnt ihr bei unserem Lehrerkonzert. In
  verschiedenen Konstellationen und zu verschiedenen Musikstilen finden sic
 h unsere Lehrerinnen und Lehrer zusammen. Lasst euch überraschen!
ATTACH;FMTTYPE=image/jpeg:http://musikschulehaar.de/wp-content/uploads/202
 5/07/JKH01748.jpg
LOCATION:Musikschule Haar Innenhof\, Münchener Str. 3\, Haar\, 85540\, Deu
 tschland
X-APPLE-STRUCTURED-LOCATION;VALUE=URI;X-ADDRESS=Münchener Str. 3\, Haar\, 
 85540\, Deutschland;X-APPLE-RADIUS=100;X-TITLE=Musikschule Haar Innenhof:g
 eo:0,0
END:VEVENT
BEGIN:VTIMEZONE
TZID:Europe/Berlin
X-LIC-LOCATION:Europe/Berlin
BEGIN:DAYLIGHT
DTSTART:20260329T030000
TZOFFSETFROM:+0100
TZOFFSETTO:+0200
TZNAME:CEST
END:DAYLIGHT
END:VTIMEZONE
END:VCALENDAR