BEGIN:VCALENDAR
VERSION:2.0
PRODID:-//wp-events-plugin.com//7.2.3.1//EN
BEGIN:VEVENT
UID:17@musikschulehaar.de
DTSTART;TZID=Europe/Berlin:20260723T170000
DTEND;TZID=Europe/Berlin:20260723T170000
DTSTAMP:20260317T105949Z
URL:http://musikschulehaar.de/events/bandkonzert-2/
SUMMARY:Bandkonzert
DESCRIPTION:Sommer - Musik - gute Laune - das klingt nach unserem Bandkonze
 rt.\n\nWir laden Euch herzlich ein zu einem mal lauschigen\, mal rockigen 
 oder mal melodischem Bandkonzert im Innenhof der Musikschule.\n\nMit dabei
  sind wieder viele unserer Bands aus ganz unterschiedlichen Musikstilen - 
 lasst Euch überraschen.\n\n&nbsp\;
ATTACH;FMTTYPE=image/jpeg:http://musikschulehaar.de/wp-content/uploads/202
 5/07/JKH01693.jpg
LOCATION:Musikschule Haar Innenhof\, Münchener Str. 3\, Haar\, 85540\, Deu
 tschland
X-APPLE-STRUCTURED-LOCATION;VALUE=URI;X-ADDRESS=Münchener Str. 3\, Haar\, 
 85540\, Deutschland;X-APPLE-RADIUS=100;X-TITLE=Musikschule Haar Innenhof:g
 eo:0,0
END:VEVENT
BEGIN:VTIMEZONE
TZID:Europe/Berlin
X-LIC-LOCATION:Europe/Berlin
BEGIN:DAYLIGHT
DTSTART:20260329T030000
TZOFFSETFROM:+0100
TZOFFSETTO:+0200
TZNAME:CEST
END:DAYLIGHT
END:VTIMEZONE
END:VCALENDAR